BEGIN:VCALENDAR
VERSION:2.0
PRODID:icalendar-ruby
CALSCALE:GREGORIAN
METHOD:PUBLISH
BEGIN:VEVENT
DTSTAMP:20260423T140049Z
UID:182-291736@connectingwomenwithgod.com
DTSTART:20260512T230000Z
DTEND:20260513T003000Z
CLASS:PUBLIC
CREATED:20260422T133401
DESCRIPTION:This month at Refresh we will learn about Soul Care!\n\nPractic
 ing self-care involves intentionally nurturing your physical\, mental\, an
 d emotional health through daily routines like 7-9 hours of sleep\, nutrit
 ious eating\, exercise\, and setting boundaries.\n\nBut what about our sou
 l? Does the health of our soul matter? Join us at May's Refresh as Gretche
 n Wease\, director of Spring of Hope shares how we can be intentional abou
 t taking care of our souls.\n\nHe refreshes my soul. (Psalm 23:3)
LAST-MODIFIED:20260422T133401
LOCATION:112 Walnut Street\, Waynesboro PA 17268
SUMMARY:Refresh
URL;VALUE=URI:https://www.connectingwomenwithgod.com/events/refresh--182/20
 26-05-12
ATTACH;FILENAME=Untitled design.jpg;FMTTYPE=image/jpeg:https://dq5pwpg1q8ru
 0.cloudfront.net/2026/04/22/17/34/01/60211edc-cc49-43ca-99da-a15d77517c7a/
 Untitled%20design.jpg
END:VEVENT
END:VCALENDAR
